BEGIN:VCALENDAR
VERSION:2.0
PRODID:-//Sacramento Tamil Academy - ECPv6.15.20//NONSGML v1.0//EN
CALSCALE:GREGORIAN
METHOD:PUBLISH
X-ORIGINAL-URL:https://sactamilacademy.org/en/
X-WR-CALDESC:Events for Sacramento Tamil Academy
REFRESH-INTERVAL;VALUE=DURATION:PT1H
X-Robots-Tag:noindex
X-PUBLISHED-TTL:PT1H
BEGIN:VTIMEZONE
TZID:America/Los_Angeles
BEGIN:DAYLIGHT
TZOFFSETFROM:-0800
TZOFFSETTO:-0700
TZNAME:PDT
DTSTART:20240310T100000
END:DAYLIGHT
BEGIN:STANDARD
TZOFFSETFROM:-0700
TZOFFSETTO:-0800
TZNAME:PST
DTSTART:20241103T090000
END:STANDARD
BEGIN:DAYLIGHT
TZOFFSETFROM:-0800
TZOFFSETTO:-0700
TZNAME:PDT
DTSTART:20250309T100000
END:DAYLIGHT
BEGIN:STANDARD
TZOFFSETFROM:-0700
TZOFFSETTO:-0800
TZNAME:PST
DTSTART:20251102T090000
END:STANDARD
BEGIN:DAYLIGHT
TZOFFSETFROM:-0800
TZOFFSETTO:-0700
TZNAME:PDT
DTSTART:20260308T100000
END:DAYLIGHT
BEGIN:STANDARD
TZOFFSETFROM:-0700
TZOFFSETTO:-0800
TZNAME:PST
DTSTART:20261101T090000
END:STANDARD
END:VTIMEZONE
BEGIN:VEVENT
DTSTART;VALUE=DATE:20250517
DTEND;VALUE=DATE:20250518
DTSTAMP:20260425T083655
CREATED:20250514T053426Z
LAST-MODIFIED:20250514T053426Z
UID:2696-1747440000-1747526399@sactamilacademy.org
SUMMARY:தமிழ் பள்ளி பட்டமளிப்பு நாள் மே 17\, 2025\, சனிக்கிழமை
DESCRIPTION:2025 ஆம் ஆண்டுக்கான தமிழ் பள்ளியின் ஆண்டு பட்டமளிப்பு விழா மிகுந்த உற்சாகத்துடன் நடைபெற இருக்கிறது! \nஇந்த நிகழ்ச்சி ஒரு முழு நாள் நிகழ்வாக இருக்கும். \nகாலை: மாணவர்களின் சிறப்பு பண்பாட்டு நிகழ்ச்சிகள் \nபிற்பகல்: பட்டமளிப்பு விழா – 2025. \n📅 தேதி: மே 17\, 2025\, சனிக்கிழமை📍 இடம்: Sutter Middle School (Multi Purpose Room)\, Folsom\, CA
URL:https://sactamilacademy.org/en/event/%e0%ae%a4%e0%ae%ae%e0%ae%bf%e0%ae%b4%e0%af%8d-%e0%ae%aa%e0%ae%b3%e0%af%8d%e0%ae%b3%e0%ae%bf-%e0%ae%aa%e0%ae%9f%e0%af%8d%e0%ae%9f%e0%ae%ae%e0%ae%b3%e0%ae%bf%e0%ae%aa%e0%af%8d%e0%ae%aa%e0%af%81/
LOCATION:Sutter Middle School (Multi Purpose Room)\, Folsom CA\, 715 Riley St\, Folsom\, CA\, 95630\, United States
END:VEVENT
END:VCALENDAR